BEGIN:VCALENDAR
VERSION:2.0
PRODID:-//America Recycles Day - ECPv4.5.11//NONSGML v1.0//EN
CALSCALE:GREGORIAN
METHOD:PUBLISH
X-WR-CALNAME:America Recycles Day
X-ORIGINAL-URL:https://americarecyclesday.org
X-WR-CALDESC:Events for America Recycles Day
BEGIN:VEVENT
DTSTART;TZID=America/Chicago:20151105T130000
DTEND;TZID=America/Chicago:20201105T170000
DTSTAMP:20180626T213800
CREATED:20171118T220633Z
LAST-MODIFIED:20171118T220633Z
UID:31590-1446728400-1604595600@americarecyclesday.org
SUMMARY:Afternoon at the Discovery Center
DESCRIPTION:Admission will be free to visitors thanks to a sponsorship by the Department of Environmental Services. Hands-on activities will focus on recycling and repurposing including a composting activity\, recycled building challenge and making bracelets from plastic shopping bags. Employees from Environmental Services will be available to share information about recycling options available throughout the community. \n
URL:https://americarecyclesday.org/event/afternoon-at-the-discovery-center/
LOCATION:438 E. St. Louis St.\, Springfield\, MO\, 65806\, United States
GEO:37.2085881;-93.2886046
X-APPLE-STRUCTURED-LOCATION;VALUE=URI;X-ADDRESS=438 E. St. Louis St. Springfield MO 65806 United States;X-APPLE-RADIUS=500;X-TITLE=438 E. St. Louis St.:geo:-93.2886046,37.2085881
CATEGORIES:Awareness/Education
ORGANIZER;CN="Discovery%20Centeer":MAILTO:info@discoverycenter.org
END:VEVENT
BEGIN:VEVENT
DTSTART;VALUE=DATE:20171115
DTEND;VALUE=DATE:20211115
DTSTAMP:20180626T213800
CREATED:20171118T223533Z
LAST-MODIFIED:20171118T223533Z
UID:31594-1510704000-1637020799@americarecyclesday.org
SUMMARY:Donations and purchases at RT store
DESCRIPTION:Rebuilding Together Kansas City (RTKC) invites the community to visit the RT Store on Wednesday\, November 15\, 2017\, from 9am-5pm\, at 1908 Plumbers Way\, #300\, Liberty\, Missouri in recognition of America Recycles Day\, a Keep America Beautiful national initiative.  As an organization based on green principles\, we enjoy fostering efforts to recycle\, reuse\, and repurpose housing materials. It all starts with putting more of the right recyclable items in the right place – and committing to do so today and into the future. \n
URL:https://americarecyclesday.org/event/donations-and-purchases-at-rt-store/
LOCATION:1908 Plumbers Way\, #300\,\, Liberty\, MO\, 64068\, United States
GEO:39.2540126;-94.4530513
X-APPLE-STRUCTURED-LOCATION;VALUE=URI;X-ADDRESS=1908 Plumbers Way #300 Liberty MO 64068 United States;X-APPLE-RADIUS=500;X-TITLE=1908 Plumbers Way\, #300\,:geo:-94.4530513,39.2540126
CATEGORIES:Collection Event
END:VEVENT
BEGIN:VEVENT
DTSTART;TZID=America/New_York:20180505T080000
DTEND;TZID=America/New_York:20180730T170000
DTSTAMP:20180626T213800
CREATED:20180326T121102Z
LAST-MODIFIED:20180326T121102Z
UID:32084-1525507200-1532970000@americarecyclesday.org
SUMMARY:Active Target Promo Codes Available on PromoOcodes
DESCRIPTION:You will be glad to know that PromoOcodes is offering latest Active Target Coupon Codes to save your money. If you use to shop from target all your essential things then this is the perfect opportunity for you to grab extra savings on your shopping bag. Use Active Target Promo Codes and save your money while purchasing anything from Target. \n
URL:https://americarecyclesday.org/event/active-target-promo-codes-available-on-promoocodes/
LOCATION:1000 University Center Lane\, Lawrenceville \, GA\, 30043\, United States
GEO:33.9802468;-84.0045984
X-APPLE-STRUCTURED-LOCATION;VALUE=URI;X-ADDRESS=1000 University Center Lane Lawrenceville  GA 30043 United States;X-APPLE-RADIUS=500;X-TITLE=1000 University Center Lane:geo:-84.0045984,33.9802468
CATEGORIES:Collection Event: Clothing/Shoes
ATTACH;FMTTYPE=image/jpeg:https://americarecyclesday.org/wp-content/uploads/2018/03/target-3.jpg
ORGANIZER;CN="Alana%20Levine":MAILTO:recycle-q@asu.edu
END:VEVENT
END:VCALENDAR